BEGIN:VCALENDAR
VERSION:2.0
PRODID:-//pretix//pretix.eu//
BEGIN:VTIMEZONE
TZID:Europe/Berlin
BEGIN:STANDARD
DTSTART:20001029T040000
RRULE:FREQ=YEARLY;BYDAY=-1SU;BYMONTH=10
TZNAME:CET
TZOFFSETFROM:+0200
TZOFFSETTO:+0100
END:STANDARD
BEGIN:DAYLIGHT
DTSTART:20000326T030000
RRULE:FREQ=YEARLY;BYDAY=-1SU;BYMONTH=3
TZNAME:CEST
TZOFFSETFROM:+0100
TZOFFSETTO:+0200
END:DAYLIGHT
END:VTIMEZONE
BEGIN:VEVENT
UID:pretix-ish-deutschland-vt-lehrgaenge-4516759@ish-deutschland.vereinstic
 ket.de
DTSTART;TZID=Europe/Berlin:20250410T183000
DTEND;TZID=Europe/Berlin:20250410T213000
DESCRIPTION:Tickets: https://ish-deutschland.vereinsticket.de/vt-lehrgaenge
 /4516759/\nVeranstalter: ISHD Inline-Skaterhockey Deutschland
DTSTAMP:20260426T000816Z
LOCATION:ISHD Geschäftsstelle\, Zoom Online-Meetingraum\, Dionysstraße 16
 \, 50739 Köln
SUMMARY:Livestreaming & Sportkommentierung
END:VEVENT
END:VCALENDAR
